BEGIN:VCALENDAR
VERSION:2.0
PRODID:-//Central Assembly - ECPv6.13.2.1//NONSGML v1.0//EN
CALSCALE:GREGORIAN
METHOD:PUBLISH
X-WR-CALNAME:Central Assembly
X-ORIGINAL-URL:https://centralassembly.com
X-WR-CALDESC:Events for Central Assembly
REFRESH-INTERVAL;VALUE=DURATION:PT1H
X-Robots-Tag:noindex
X-PUBLISHED-TTL:PT1H
BEGIN:VTIMEZONE
TZID:UTC
BEGIN:STANDARD
TZOFFSETFROM:+0000
TZOFFSETTO:+0000
TZNAME:UTC
DTSTART:20260101T000000
END:STANDARD
END:VTIMEZONE
BEGIN:VEVENT
DTSTART;TZID=UTC:20260308T100000
DTEND;TZID=UTC:20260308T113000
DTSTAMP:20260425T180045
CREATED:20260213T031113Z
LAST-MODIFIED:20260213T031223Z
UID:27200-1772964000-1772969400@centralassembly.com
SUMMARY:Water Baptism
DESCRIPTION:Join us for Water Baptism on Sunday\, March 8th at 10 AM! Baptism is a meaningful step of obedience that symbolizes new life in Jesus\, and we’re excited to celebrate with those making this public declaration of faith. If you’re interested in being baptized\, please fill out the registration form so we can connect with you and walk with you through this next step. REGISTER HERE.
URL:https://centralassembly.com/event/water-baptism-5/
LOCATION:Central Assembly\, 6767 20th Street \, FL\, Vero Beach\, 32966\, United States
END:VEVENT
END:VCALENDAR