BEGIN:VCALENDAR
VERSION:2.0
PRODID:-//Central Assembly - ECPv6.13.2.1//NONSGML v1.0//EN
CALSCALE:GREGORIAN
METHOD:PUBLISH
X-ORIGINAL-URL:https://centralassembly.com
X-WR-CALDESC:Events for Central Assembly
REFRESH-INTERVAL;VALUE=DURATION:PT1H
X-Robots-Tag:noindex
X-PUBLISHED-TTL:PT1H
BEGIN:VTIMEZONE
TZID:UTC
BEGIN:STANDARD
TZOFFSETFROM:+0000
TZOFFSETTO:+0000
TZNAME:UTC
DTSTART:20260101T000000
END:STANDARD
END:VTIMEZONE
BEGIN:VEVENT
DTSTART;TZID=UTC:20260315T100000
DTEND;TZID=UTC:20260315T113000
DTSTAMP:20260425T180433
CREATED:20260303T010326Z
LAST-MODIFIED:20260303T010326Z
UID:27237-1773568800-1773574200@centralassembly.com
SUMMARY:Empowerment Sunday
DESCRIPTION:Join us for Empowerment Sunday on March 15th at 10 AM for an exciting opportunity to explore how you can minister in our church family! Visit tables showcasing ministries like worship\, youth\, outreach\, and more to learn how your unique gifts can make a difference. Lunch will be provided so stick around for food and community connection!
URL:https://centralassembly.com/event/empowerment-sunday-2/
END:VEVENT
END:VCALENDAR