BEGIN:VCALENDAR
VERSION:2.0
PRODID:-//Central Assembly - ECPv6.13.2.1//NONSGML v1.0//EN
CALSCALE:GREGORIAN
METHOD:PUBLISH
X-ORIGINAL-URL:https://centralassembly.com
X-WR-CALDESC:Events for Central Assembly
REFRESH-INTERVAL;VALUE=DURATION:PT1H
X-Robots-Tag:noindex
X-PUBLISHED-TTL:PT1H
BEGIN:VTIMEZONE
TZID:UTC
BEGIN:STANDARD
TZOFFSETFROM:+0000
TZOFFSETTO:+0000
TZNAME:UTC
DTSTART:20260101T000000
END:STANDARD
END:VTIMEZONE
BEGIN:VEVENT
DTSTART;TZID=UTC:20260327T190000
DTEND;TZID=UTC:20260327T220000
DTSTAMP:20260425T180435
CREATED:20260114T024420Z
LAST-MODIFIED:20260114T024439Z
UID:27171-1774638000-1774648800@centralassembly.com
SUMMARY:Youth Game Night
DESCRIPTION:Join us March 27 from 7–10pm at Central Assembly for a night of games\, laughs\, and friendly competition. Bring your friends and get ready for an awesome night made just for middle & high schoolers!
URL:https://centralassembly.com/event/youth-game-night-6/
LOCATION:Central Assembly\, 6767 20th Street \, FL\, Vero Beach\, 32966\, United States
CATEGORIES:Central Youth
ORGANIZER;CN="Central Youth":MAILTO:youth@centralassembly.com
END:VEVENT
END:VCALENDAR