BEGIN:VCALENDAR
VERSION:2.0
PRODID:-//Central Assembly - ECPv6.13.2.1//NONSGML v1.0//EN
CALSCALE:GREGORIAN
METHOD:PUBLISH
X-WR-CALNAME:Central Assembly
X-ORIGINAL-URL:https://centralassembly.com
X-WR-CALDESC:Events for Central Assembly
REFRESH-INTERVAL;VALUE=DURATION:PT1H
X-Robots-Tag:noindex
X-PUBLISHED-TTL:PT1H
BEGIN:VTIMEZONE
TZID:UTC
BEGIN:STANDARD
TZOFFSETFROM:+0000
TZOFFSETTO:+0000
TZNAME:UTC
DTSTART:20260101T000000
END:STANDARD
END:VTIMEZONE
BEGIN:VEVENT
DTSTART;TZID=UTC:20260502T170000
DTEND;TZID=UTC:20260502T220000
DTSTAMP:20260423T154935
CREATED:20260414T165414Z
LAST-MODIFIED:20260414T165414Z
UID:27283-1777741200-1777759200@centralassembly.com
SUMMARY:Gather and Grow
DESCRIPTION:Join us for Gather and Grow at the Odom Farm! An evening of community\, connection\, and meaningful conversation over a shared meal. Enjoy pickleball\, a food truck\, and more as we spend intentional time growing together. We kindly ask that you make arrangements for your little ones and come ready to relax and connect. Click here to register and for more info.
URL:https://centralassembly.com/event/gather-and-grow/
END:VEVENT
BEGIN:VEVENT
DTSTART;TZID=UTC:20260506T190000
DTEND;TZID=UTC:20260506T203000
DTSTAMP:20260423T154935
CREATED:20260418T163931Z
LAST-MODIFIED:20260418T163931Z
UID:27285-1778094000-1778099400@centralassembly.com
SUMMARY:Chip Kendall
DESCRIPTION:Join us during Family Equip Night in the Followers of Jesus class as we hear from Chip Kendall\, a singer\, songwriter\, and communicator passionate about connecting people with Jesus. Wednesday\, May 6th at 7 PM.
URL:https://centralassembly.com/event/chip-kendall/
LOCATION:Central Assembly\, 6767 20th Street \, FL\, Vero Beach\, 32966\, United States
END:VEVENT
BEGIN:VEVENT
DTSTART;TZID=UTC:20260510T100000
DTEND;TZID=UTC:20260510T113000
DTSTAMP:20260423T154935
CREATED:20260324T003349Z
LAST-MODIFIED:20260324T003349Z
UID:27261-1778407200-1778412600@centralassembly.com
SUMMARY:Mother's Day
DESCRIPTION:Join us this Mother’s Day as we celebrate and honor the incredible women in our lives. It will be a meaningful and joy-filled morning as we recognize the love\, strength\, and sacrifice of every mom. All ladies will enjoy freshly baked pastries and a specialty coffee drink of their choice\, prepared just for them. We would love for you and your family to be part of this special day together!
URL:https://centralassembly.com/event/mothers-day/
LOCATION:Central Assembly\, 6767 20th Street \, FL\, Vero Beach\, 32966\, United States
END:VEVENT
BEGIN:VEVENT
DTSTART;TZID=UTC:20260516T180000
DTEND;TZID=UTC:20260516T210000
DTSTAMP:20260423T154935
CREATED:20260324T005851Z
LAST-MODIFIED:20260324T005851Z
UID:27269-1778954400-1778965200@centralassembly.com
SUMMARY:Supper and Soul
DESCRIPTION:Supper & Soul is a welcoming young adults gathering designed to help you grow in both community and faith. This potluck-style evening brings people together around the table to share a meal\, meaningful conversation\, and encouragement. Led by a wise and seasoned couple\, each gathering creates space for authentic connection\, spiritual growth\, and real-life discipleship. Whether you’re looking to build friendships\, ask questions\, or deepen your walk with God\, Supper & Soul is a place to belong and grow! Send us an email for location details.
URL:https://centralassembly.com/event/supper-and-soul-7/
END:VEVENT
BEGIN:VEVENT
DTSTART;TZID=UTC:20260524T100000
DTEND;TZID=UTC:20260524T113000
DTSTAMP:20260423T154935
CREATED:20260323T171618Z
LAST-MODIFIED:20260324T003219Z
UID:27259-1779616800-1779622200@centralassembly.com
SUMMARY:Water Baptism
DESCRIPTION:Water baptism is an outward expression of an inward transformation. It’s a meaningful step of obedience for anyone who has chosen to follow Jesus. If you’re ready to be baptized\, we’d love to help you take that next step. Join us on May 24th at 10 AM as we celebrate this special moment and the new life you have in Christ! To sign up\, CLICK HERE or use the link below.
URL:https://centralassembly.com/event/water-baptism-6/
LOCATION:Central Assembly\, 6767 20th Street \, FL\, Vero Beach\, 32966\, United States
END:VEVENT
BEGIN:VEVENT
DTSTART;TZID=UTC:20260531T100000
DTEND;TZID=UTC:20260531T113000
DTSTAMP:20260423T154935
CREATED:20260324T003636Z
LAST-MODIFIED:20260324T003636Z
UID:27263-1780221600-1780227000@centralassembly.com
SUMMARY:GO Sunday
DESCRIPTION:Get ready for an unforgettable adventure at our next GO Sunday! Kids will “take a flight” to Saudi Arabia for a fun\, immersive experience where they’ll explore the sights\, sounds\, and culture of a new country. Through interactive activities\, games\, and creative moments\, they’ll discover what life is like there and learn how they can share the love of Jesus with people of Saudi Arabia!
URL:https://centralassembly.com/event/go-sunday-5/
LOCATION:Central Assembly\, 6767 20th Street \, FL\, Vero Beach\, 32966\, United States
CATEGORIES:Central Kids
END:VEVENT
BEGIN:VEVENT
DTSTART;TZID=UTC:20260607T100000
DTEND;TZID=UTC:20260607T113000
DTSTAMP:20260423T154935
CREATED:20260413T183657Z
LAST-MODIFIED:20260413T183657Z
UID:27281-1780826400-1780831800@centralassembly.com
SUMMARY:Graduation Sunday
DESCRIPTION:We would love to celebrate your graduate! If your student is graduating this year\, please take a moment to register them so we can honor their hard work and achievements during our 10:00 AM service on Sunday\, June 7th. This is a special opportunity for our church family to recognize and pray over this important milestone—don’t miss being a part of it! Register your graduate HERE.
URL:https://centralassembly.com/event/graduation-sunday-2/
LOCATION:Central Assembly\, 6767 20th Street \, FL\, Vero Beach\, 32966\, United States
END:VEVENT
BEGIN:VEVENT
DTSTART;TZID=UTC:20260620T180000
DTEND;TZID=UTC:20260620T210000
DTSTAMP:20260423T154935
CREATED:20260324T010102Z
LAST-MODIFIED:20260324T010102Z
UID:27271-1781978400-1781989200@centralassembly.com
SUMMARY:Supper and Soul
DESCRIPTION:Supper & Soul is a welcoming young adults gathering designed to help you grow in both community and faith. This potluck-style evening brings people together around the table to share a meal\, meaningful conversation\, and encouragement. Led by a wise and seasoned couple\, each gathering creates space for authentic connection\, spiritual growth\, and real-life discipleship. Whether you’re looking to build friendships\, ask questions\, or deepen your walk with God\, Supper & Soul is a place to belong and grow! Send us an email for location details.
URL:https://centralassembly.com/event/supper-and-soul-8/
END:VEVENT
BEGIN:VEVENT
DTSTART;TZID=UTC:20260809T100000
DTEND;TZID=UTC:20260809T113000
DTSTAMP:20260423T154935
CREATED:20260324T003925Z
LAST-MODIFIED:20260324T003925Z
UID:27265-1786269600-1786275000@centralassembly.com
SUMMARY:Water Baptism
DESCRIPTION:Water baptism is an outward expression of an inward transformation. It’s a meaningful step of obedience for anyone who has chosen to follow Jesus. If you’re ready to be baptized\, we’d love to help you take that next step. Join us on May 24th at 10 AM as we celebrate this special moment and the new life you have in Christ! To sign up\, CLICK HERE or use the link below.
URL:https://centralassembly.com/event/water-baptism-7/
LOCATION:Central Assembly\, 6767 20th Street \, FL\, Vero Beach\, 32966\, United States
END:VEVENT
BEGIN:VEVENT
DTSTART;TZID=UTC:20261113T190000
DTEND;TZID=UTC:20261115T113000
DTSTAMP:20260423T154935
CREATED:20260107T184935Z
LAST-MODIFIED:20260107T184935Z
UID:27159-1794596400-1794742200@centralassembly.com
SUMMARY:Global Outreach Experience
DESCRIPTION:Join us for Global Outreach Experience 2026\, our annual gathering designed to inspire\, equip\, and mobilize people to engage with God’s work around the world. Come hear powerful stories\, connect with global partners\, and discover how you can take your next step in global outreach. Register today and be part of what God is doing globally! November 13-15\, 2026 at Central Assembly (6767 20th Street\, Vero Beach\, Fl. 32966)
URL:https://centralassembly.com/event/global-outreach-experience-2/
LOCATION:Central Assembly\, 6767 20th Street \, FL\, Vero Beach\, 32966\, United States
END:VEVENT
END:VCALENDAR