BEGIN:VCALENDAR
VERSION:2.0
PRODID:-//Central Assembly - ECPv6.13.2.1//NONSGML v1.0//EN
CALSCALE:GREGORIAN
METHOD:PUBLISH
X-ORIGINAL-URL:https://centralassembly.com
X-WR-CALDESC:Events for Central Assembly
REFRESH-INTERVAL;VALUE=DURATION:PT1H
X-Robots-Tag:noindex
X-PUBLISHED-TTL:PT1H
BEGIN:VTIMEZONE
TZID:UTC
BEGIN:STANDARD
TZOFFSETFROM:+0000
TZOFFSETTO:+0000
TZNAME:UTC
DTSTART:20260101T000000
END:STANDARD
END:VTIMEZONE
BEGIN:VEVENT
DTSTART;TZID=UTC:20260531T100000
DTEND;TZID=UTC:20260531T113000
DTSTAMP:20260425T102716
CREATED:20260324T003636Z
LAST-MODIFIED:20260324T003636Z
UID:27263-1780221600-1780227000@centralassembly.com
SUMMARY:GO Sunday
DESCRIPTION:Get ready for an unforgettable adventure at our next GO Sunday! Kids will “take a flight” to Saudi Arabia for a fun\, immersive experience where they’ll explore the sights\, sounds\, and culture of a new country. Through interactive activities\, games\, and creative moments\, they’ll discover what life is like there and learn how they can share the love of Jesus with people of Saudi Arabia!
URL:https://centralassembly.com/event/go-sunday-5/
LOCATION:Central Assembly\, 6767 20th Street \, FL\, Vero Beach\, 32966\, United States
CATEGORIES:Central Kids
END:VEVENT
END:VCALENDAR