BEGIN:VCALENDAR
VERSION:2.0
PRODID:-//Central Assembly - ECPv6.13.2.1//NONSGML v1.0//EN
CALSCALE:GREGORIAN
METHOD:PUBLISH
X-WR-CALNAME:Central Assembly
X-ORIGINAL-URL:https://centralassembly.com
X-WR-CALDESC:Events for Central Assembly
REFRESH-INTERVAL;VALUE=DURATION:PT1H
X-Robots-Tag:noindex
X-PUBLISHED-TTL:PT1H
BEGIN:VTIMEZONE
TZID:UTC
BEGIN:STANDARD
TZOFFSETFROM:+0000
TZOFFSETTO:+0000
TZNAME:UTC
DTSTART:20250101T000000
END:STANDARD
END:VTIMEZONE
BEGIN:VEVENT
DTSTART;TZID=UTC:20251224T180000
DTEND;TZID=UTC:20251224T190000
DTSTAMP:20260425T232652
CREATED:20251119T171934Z
LAST-MODIFIED:20251119T171934Z
UID:27140-1766599200-1766602800@centralassembly.com
SUMMARY:Family Christmas Eve Service
DESCRIPTION:Join us this Christmas Eve for a beautiful candlelight service for the whole family as we celebrate the hope and joy of Jesus’ birth. We’ll pause to reflect on the wonder of His arrival and worship the One who brings light into our world.
URL:https://centralassembly.com/event/family-christmas-eve-service/
LOCATION:Central Assembly\, 6767 20th Street \, FL\, Vero Beach\, 32966\, United States
END:VEVENT
BEGIN:VEVENT
DTSTART;TZID=UTC:20251217T190000
DTEND;TZID=UTC:20251217T203000
DTSTAMP:20260425T232652
CREATED:20251020T195700Z
LAST-MODIFIED:20251020T195700Z
UID:27135-1765998000-1766003400@centralassembly.com
SUMMARY:Youth Christmas Party
DESCRIPTION:Join us during our Wednesday evening service for a fun and festive Christmas celebration! We’ll have holiday snacks\, hot chocolate\, and Christmas-themed games that’ll get everyone in the holiday spirit. Come ready to laugh\, connect\, and celebrate the season together with friends. Don’t miss out on the fun—it’s going to be merry and bright! For youth 6-12th grade. Sign up here. 
URL:https://centralassembly.com/event/youth-christmas-party/
LOCATION:Central Assembly\, 6767 20th Street \, FL\, Vero Beach\, 32966\, United States
CATEGORIES:Central Youth
END:VEVENT
BEGIN:VEVENT
DTSTART;TZID=UTC:20251212T190000
DTEND;TZID=UTC:20251212T210000
DTSTAMP:20260425T232652
CREATED:20251113T194710Z
LAST-MODIFIED:20251113T194710Z
UID:27138-1765566000-1765573200@centralassembly.com
SUMMARY:Family Christmas Party
DESCRIPTION:Join us for a festive night of family fun! Enjoy outdoor Christmas movies\, cookie decorating\, festive crafts\, hot chocolate\, photos with Santa\, and even a little snowfall to make the night extra magical. Bring a friend and come enjoy a Christmas evening you won’t want to miss!
URL:https://centralassembly.com/event/family-christmas-party-2/
LOCATION:Central Assembly\, 6767 20th Street \, FL\, Vero Beach\, 32966\, United States
END:VEVENT
BEGIN:VEVENT
DTSTART;TZID=UTC:20251121T190000
DTEND;TZID=UTC:20251121T220000
DTSTAMP:20260425T232652
CREATED:20251020T195444Z
LAST-MODIFIED:20251020T195444Z
UID:27133-1763751600-1763762400@centralassembly.com
SUMMARY:Youth Friendsgiving
DESCRIPTION:Come celebrate Friendsgiving with us! We’ll enjoy a cozy evening of food\, fun\, and community—followed by a fun game night! Bring your favorite dish to share (there’s a spot on the sign-up to let us know what you’re bringing). It’s the perfect night to hang out\, eat good food\, and give thanks together! For youth 6-12th grade. Sign up here. 
URL:https://centralassembly.com/event/youth-friendsgiving-2/
LOCATION:Central Assembly\, 6767 20th Street \, FL\, Vero Beach\, 32966\, United States
CATEGORIES:Central Youth
END:VEVENT
BEGIN:VEVENT
DTSTART;TZID=UTC:20251115T180000
DTEND;TZID=UTC:20251115T210000
DTSTAMP:20260425T232652
CREATED:20250923T155333Z
LAST-MODIFIED:20250923T155333Z
UID:27121-1763229600-1763240400@centralassembly.com
SUMMARY:Supper and Soul
DESCRIPTION:Step into the warmth of Supper and Soul where young adults and wise-hearted hosts come together for an evening of food\, faith\, and community. Hosted in the homes of Central’s wiser and experienced couples\, this potluck gathering is all about organic community…sharing dishes\, swapping stories\, and growing closer to God and each other. It’s a chance to slow down\, savor a meal\, and find a seat at a table set for connection. Hosted with love\, fueled by faith\, and open to young adults ages 18-30 years. We ask that anyone who plans to attend bring a dish to share with everyone. For the location and other details\, click the button below to send us an email.
URL:https://centralassembly.com/event/supper-and-soul-3/
END:VEVENT
BEGIN:VEVENT
DTSTART;VALUE=DATE:20251107
DTEND;VALUE=DATE:20251110
DTSTAMP:20260425T232652
CREATED:20250716T181759Z
LAST-MODIFIED:20250716T191222Z
UID:27101-1762473600-1762732799@centralassembly.com
SUMMARY:Global Outreach Experience
DESCRIPTION:Are you ready to be part of a movement that transforms lives and reaches the 42.3% of the world who have never heard the gospel of Jesus Christ? This isn’t just a conference\, it’s a life-changing experience designed to inspire\, equip\, and mobilize you to make a global impact!\n\nWhen: November 7th\, 8th and 9th\, 2025Where: Central Assembly (6767 20th Street\, Vero Beach\, Fl. 32966)\n\nWhat to Expect:\n\nInspiring Keynote Speakers: Hear from Dick and Jenn Brogden\, founders of LiveDead\, and other seasoned global workers sharing powerful stories and practical insights to fuel your mission.\n\nDynamic Workshops: Gain tools and strategies to reach the unreached with the gospel.\n\nEngaging Kids’ Ministry: Fun\, faith-filled activities to spark a love for missions in the next generation.\n\nWorship & Prayer: Encounter God’s heart for the nations in powerful times of worship and intercession.\n\nThis is more than an event\, it’s a call to action. Come\, be inspired\, and join a community passionate about bringing the hope of Jesus to every corner of the world.\n\nRegister Now: www.globaloutreachconference.com\n\nLet’s reach the unreached together!\n  \n 
URL:https://centralassembly.com/event/global-outreach-experience/
LOCATION:Central Assembly\, 6767 20th Street \, FL\, Vero Beach\, 32966\, United States
CATEGORIES:Global Outreach
END:VEVENT
BEGIN:VEVENT
DTSTART;TZID=UTC:20251026T180000
DTEND;TZID=UTC:20251026T193000
DTSTAMP:20260425T232652
CREATED:20250929T172056Z
LAST-MODIFIED:20250929T174532Z
UID:27127-1761501600-1761507000@centralassembly.com
SUMMARY:Freedom Night and Water Baptism
DESCRIPTION:Join us for Freedom Night\, an evening of powerful worship\, prayer\, and water baptism. This is a time to encounter God’s presence\, celebrate the freedom we have in Christ\, and witness lives transformed through baptism. Come expectant for renewal\, breakthrough\, and a fresh move of the Holy Spirit as we gather together as a church family. If you are interested in being baptized\, SIGN UP HERE.
URL:https://centralassembly.com/event/27127/
LOCATION:Central Assembly\, 6767 20th Street \, FL\, Vero Beach\, 32966\, United States
END:VEVENT
BEGIN:VEVENT
DTSTART;TZID=UTC:20251025T180000
DTEND;TZID=UTC:20251025T210000
DTSTAMP:20260425T232652
CREATED:20250923T155200Z
LAST-MODIFIED:20250923T155200Z
UID:27119-1761415200-1761426000@centralassembly.com
SUMMARY:Supper and Soul
DESCRIPTION:Step into the warmth of Supper and Soul where young adults and wise-hearted hosts come together for an evening of food\, faith\, and community. Hosted in the homes of Central’s wiser and experienced couples\, this potluck gathering is all about organic community…sharing dishes\, swapping stories\, and growing closer to God and each other. It’s a chance to slow down\, savor a meal\, and find a seat at a table set for connection. Hosted with love\, fueled by faith\, and open to young adults ages 18-30 years. We ask that anyone who plans to attend bring a dish to share with everyone. For the location and other details\, click the button below to send us an email.
URL:https://centralassembly.com/event/supper-and-soul-2/
END:VEVENT
BEGIN:VEVENT
DTSTART;TZID=UTC:20251019T100000
DTEND;TZID=UTC:20251019T113000
DTSTAMP:20260425T232652
CREATED:20250929T171811Z
LAST-MODIFIED:20250929T171811Z
UID:27125-1760868000-1760873400@centralassembly.com
SUMMARY:Family Dedication
DESCRIPTION:Join us for a special Family Dedication service\, where families have the opportunity to publicly commit their homes to the Lord. This is a time to declare your desire to raise your children in God’s ways and to invite the support\, prayer\, and encouragement of our church community. Together\, we will celebrate the gift of family and dedicate our households to honor and serve the Lord. Register your family HERE.
URL:https://centralassembly.com/event/family-dedication/
LOCATION:Central Assembly\, 6767 20th Street \, FL\, Vero Beach\, 32966\, United States
END:VEVENT
BEGIN:VEVENT
DTSTART;TZID=UTC:20251017T190000
DTEND;TZID=UTC:20251017T210000
DTSTAMP:20260425T232652
CREATED:20250923T155634Z
LAST-MODIFIED:20250923T155634Z
UID:27123-1760727600-1760734800@centralassembly.com
SUMMARY:Youth Game Night
DESCRIPTION:Join us for game night on October 17th from 7-10pm! We’ll have a variety of games\, great people to connect with\, and lots of food! Bring a friend (or a few!) and come hang out at Central Assembly. Make sure to register!
URL:https://centralassembly.com/event/youth-game-night-5/
LOCATION:Central Assembly\, 6767 20th Street \, FL\, Vero Beach\, 32966\, United States
CATEGORIES:Central Youth
END:VEVENT
BEGIN:VEVENT
DTSTART;TZID=UTC:20250817T100000
DTEND;TZID=UTC:20250817T113000
DTSTAMP:20260425T232652
CREATED:20250730T015611Z
LAST-MODIFIED:20250730T020735Z
UID:27106-1755424800-1755430200@centralassembly.com
SUMMARY:GO Sunday
DESCRIPTION:Calling all kids! Get ready for an amazing GO Sunday on August 17th during the 10 AM service! Head upstairs to Adventure Point for an exciting ‘flight’ to Pakistan! Join us for fun activities\, captivating stories\, lively music\,  snacks\, and more as we discover how to share the love of Jesus with the wonderful people of Pakistan!
URL:https://centralassembly.com/event/go-sunday-3/
LOCATION:Central Assembly\, 6767 20th Street \, FL\, Vero Beach\, 32966\, United States
CATEGORIES:Central Kids
END:VEVENT
BEGIN:VEVENT
DTSTART;TZID=UTC:20250816T170000
DTEND;TZID=UTC:20250816T200000
DTSTAMP:20260425T232652
CREATED:20250730T144956Z
LAST-MODIFIED:20250730T144956Z
UID:27112-1755363600-1755374400@centralassembly.com
SUMMARY:Supper and Soul
DESCRIPTION:Step into the warmth of Supper and Soul where young adults and wise-hearted hosts come together for an evening of food\, faith\, and community. Hosted in the homes of Central’s wiser and experienced couples\, this potluck gathering is all about organic community—sharing dishes\, swapping stories\, and growing closer to God and each other. It’s a chance to slow down\, savor a meal\, and find a seat at a table set for connection. Hosted with love\, fueled by faith\, and open to young adults ages 18-30 years. We ask that anyone who plans to attend bring a dish to share with everyone. For the location and other details\, click the button below to send us an email.
URL:https://centralassembly.com/event/supper-and-soul/
END:VEVENT
BEGIN:VEVENT
DTSTART;TZID=UTC:20250810T100000
DTEND;TZID=UTC:20250810T110000
DTSTAMP:20260425T232652
CREATED:20250730T020513Z
LAST-MODIFIED:20250730T020513Z
UID:27110-1754820000-1754823600@centralassembly.com
SUMMARY:Central Kids Move Up
DESCRIPTION:Central Kids is excited to welcome all incoming Kindergarteners to Adventure Point on Sunday\, August 10th in the 10 AM service! We are also excited to honor all of our graduating 5th graders who will spend their last Sunday in Adventure Point on August 10th. All elementary students are welcomed to join us in Adventure Point after service for bounce houses and other fun activities. Our middle and high schoolers are invited to join us upstairs in the living room for fun and games. Let’s celebrate the next generation!
URL:https://centralassembly.com/event/central-kids-move-up/
LOCATION:Central Assembly\, 6767 20th Street \, FL\, Vero Beach\, 32966\, United States
CATEGORIES:Central Kids
END:VEVENT
BEGIN:VEVENT
DTSTART;TZID=UTC:20250727T180000
DTEND;TZID=UTC:20250727T200000
DTSTAMP:20260425T232652
CREATED:20250716T181303Z
LAST-MODIFIED:20250716T181303Z
UID:27099-1753639200-1753646400@centralassembly.com
SUMMARY:Water Baptism
DESCRIPTION:Are you interested in getting baptized? Join us for “Worship and Warfare” night on Sunday\, July 27th at 6 PM as we engage in spiritual warfare through prayer and praise\, and embrace the opportunity for water baptism. Just complete the sign up form below and come expectant for a transformative night of faith and encouragement!\n\nSIGN UP FOR BAPTISM HERE
URL:https://centralassembly.com/event/water-baptism-3/
LOCATION:Central Assembly\, 6767 20th Street \, FL\, Vero Beach\, 32966\, United States
END:VEVENT
BEGIN:VEVENT
DTSTART;TZID=UTC:20250727T180000
DTEND;TZID=UTC:20250727T200000
DTSTAMP:20260425T232652
CREATED:20250715T173359Z
LAST-MODIFIED:20250716T175447Z
UID:27095-1753639200-1753646400@centralassembly.com
SUMMARY:Worship and Warfare
DESCRIPTION:Join us for a powerful evening of “Worship and Warfare” on Sunday\, July 27th\, at 6 PM! Experience heartfelt worship\, engage in spiritual warfare through prayer and praise\, and embrace the opportunity for water baptism as we seek God’s presence and victory. Come expectant for a transformative night of faith and encouragement. All are welcome!\n\nInterested in being baptized? Sign up HERE
URL:https://centralassembly.com/event/worship-and-warfare/
LOCATION:Central Assembly\, 6767 20th Street \, FL\, Vero Beach\, 32966\, United States
END:VEVENT
BEGIN:VEVENT
DTSTART;TZID=UTC:20250627T190000
DTEND;TZID=UTC:20250627T220000
DTSTAMP:20260425T232652
CREATED:20250605T191057Z
LAST-MODIFIED:20250605T191057Z
UID:27092-1751050800-1751061600@centralassembly.com
SUMMARY:Youth Game Night
DESCRIPTION:Calling all middle and high schoolers (6th–12th grade)! Grab your friends\, bring your game face\, and join us for an unforgettable Youth Game Night on Friday\, June 27th\, from 7–10 PM! REGISTER HERE.
URL:https://centralassembly.com/event/youth-game-night-4/
LOCATION:Central Assembly\, 6767 20th Street \, FL\, Vero Beach\, 32966\, United States
CATEGORIES:Central Youth
END:VEVENT
BEGIN:VEVENT
DTSTART;TZID=UTC:20250622T100000
DTEND;TZID=UTC:20250622T113000
DTSTAMP:20260425T232652
CREATED:20250605T184508Z
LAST-MODIFIED:20250605T184508Z
UID:27086-1750586400-1750591800@centralassembly.com
SUMMARY:Empowerment Sunday
DESCRIPTION:Join us for Empowerment Sunday on June 22nd at 10 AM for an exciting opportunity to explore how you can minister in our church family. Visit tables showcasing ministries like worship\, youth\, tech\, outreach\, and more to learn how your unique gifts can make a difference! Enjoy lunch on us\, engaging community\, and find your calling to minister with us. Don’t miss this chance to connect\, grow\, and step into God’s purpose for you!
URL:https://centralassembly.com/event/empowerment-sunday/
LOCATION:Central Assembly\, 6767 20th Street \, FL\, Vero Beach\, 32966\, United States
END:VEVENT
BEGIN:VEVENT
DTSTART;TZID=UTC:20250620T190000
DTEND;TZID=UTC:20250620T220000
DTSTAMP:20260425T232652
CREATED:20250605T190829Z
LAST-MODIFIED:20250605T190829Z
UID:27090-1750446000-1750456800@centralassembly.com
SUMMARY:High School Game Night
DESCRIPTION:Just finished 9th–12th grade? This one’s for YOU! Grab a flashlight\, lace up your sneakers\, bring some friends\, and dive into an epic game night! Check in at the coffee shop doors for a night of fun\, connection\, and games. Don’t miss out! Make sure to REGISTER HERE.
URL:https://centralassembly.com/event/high-school-game-night/
LOCATION:Central Assembly\, 6767 20th Street \, FL\, Vero Beach\, 32966\, United States
CATEGORIES:Central Youth
END:VEVENT
BEGIN:VEVENT
DTSTART;TZID=UTC:20250620T190000
DTEND;TZID=UTC:20250620T220000
DTSTAMP:20260425T232652
CREATED:20250605T190408Z
LAST-MODIFIED:20250605T190408Z
UID:27088-1750446000-1750456800@centralassembly.com
SUMMARY:Middle School Switch Showdown
DESCRIPTION:Calling all middle-schoolers (those who just completed 6th-8th grade)! Join us for Central Youth’s first-ever Mario Kart Tournament! Enter through the lobby doors for check-in\, then head to Adventure Point for food\, games\, and friendly competition! Make sure to REGISTER HERE.
URL:https://centralassembly.com/event/middle-school-switch-showdown/
LOCATION:Central Assembly\, 6767 20th Street \, FL\, Vero Beach\, 32966\, United States
CATEGORIES:Central Youth
END:VEVENT
BEGIN:VEVENT
DTSTART;TZID=UTC:20250615T100000
DTEND;TZID=UTC:20250615T113000
DTSTAMP:20260425T232652
CREATED:20250605T170604Z
LAST-MODIFIED:20250605T170604Z
UID:27084-1749981600-1749987000@centralassembly.com
SUMMARY:Father's Day
DESCRIPTION:Dads\, granddads and father figures\, get ready for an unforgettable morning at Central on Sunday\, June 15th at 10 AM! We’re rolling out the red carpet for a Father’s Day service packed with dynamic worship that will lift your spirits\, a special and powerful message from Pastor Jon Hamilton that will be sure to encourage and inspire all of the dads in the house\, delicious donuts and more! Bring the whole family for a morning of fun\, encouragement\, and celebration! 10 AM service only.
URL:https://centralassembly.com/event/fathers-day-2/
LOCATION:Central Assembly\, 6767 20th Street \, FL\, Vero Beach\, 32966\, United States
END:VEVENT
BEGIN:VEVENT
DTSTART;TZID=UTC:20250601T100000
DTEND;TZID=UTC:20250601T113000
DTSTAMP:20260425T232652
CREATED:20250415T172412Z
LAST-MODIFIED:20250415T172412Z
UID:27051-1748772000-1748777400@centralassembly.com
SUMMARY:Graduation Sunday
DESCRIPTION:We are excited to celebrate our high school and college graduates during our 10 AM service on Sunday\, June 1st! Join us as we honor their hard work\, dedication\, and exciting milestones with our church family. This special service will include a moment to recognize each graduate’s achievements and pray for their future journeys. Families are invited to sign up their graduates using this link below to ensure they are included in this meaningful event. Don’t miss this opportunity to come together and uplift our students! SIGN UP HERE.
URL:https://centralassembly.com/event/graduation-sunday/
LOCATION:Central Assembly\, 6767 20th Street \, FL\, Vero Beach\, 32966\, United States
END:VEVENT
BEGIN:VEVENT
DTSTART;TZID=UTC:20250511T100000
DTEND;TZID=UTC:20250511T113000
DTSTAMP:20260425T232652
CREATED:20250410T155714Z
LAST-MODIFIED:20250410T155714Z
UID:27045-1746957600-1746963000@centralassembly.com
SUMMARY:Mother's Day at Central
DESCRIPTION:This Mother’s Day\, get ready for a joyful and dynamic celebration that will leave you laughing and feeling loved! Our special guest? The fabulous Sherri Lynn–broadcaster\, writer\, comedian\, and the author of “Holy Ghost Mama” Sherri’s incredible tribute to her legendary mom. After years of spilling Miss Bev’s wit and wisdom on the airwaves and the stage\, Sherri has compiled her mama’s sassiest sayings into a must-have gem. We hope you will join us on Sunday\, May 11th at 10 AM for a service bursting with heartfelt worship\, a meaningful message and down to earth community\, along with other activities for all the ladies! Bring your family\, your friends\, your sense of humor\, and your tissues and get ready for a morning to remember!
URL:https://centralassembly.com/event/mothers-day-at-central/
LOCATION:Central Assembly\, 6767 20th Street \, FL\, Vero Beach\, 32966\, United States
END:VEVENT
BEGIN:VEVENT
DTSTART;TZID=UTC:20250504T100000
DTEND;TZID=UTC:20250504T113000
DTSTAMP:20260425T232652
CREATED:20250409T144025Z
LAST-MODIFIED:20250430T190015Z
UID:27041-1746352800-1746358200@centralassembly.com
SUMMARY:Water Baptism
DESCRIPTION:Are you ready to take the next step in your faith journey? We invite you to participate in our upcoming water baptism during our 10 AM service on Sunday\, May 4th! This is a beautiful opportunity to publicly declare your commitment to Christ\, surrounded by a loving and supportive church family. If you would like to experience water baptism\, we’d be honored to celebrate with you. Let’s rejoice together in this sacred moment of faith! CLICK HERE to sign up. 
URL:https://centralassembly.com/event/water-baptism-2/
LOCATION:Central Assembly\, 6767 20th Street \, FL\, Vero Beach\, 32966\, United States
END:VEVENT
BEGIN:VEVENT
DTSTART;TZID=UTC:20250427T100000
DTEND;TZID=UTC:20250427T113000
DTSTAMP:20260425T232652
CREATED:20250319T211258Z
LAST-MODIFIED:20250320T020855Z
UID:26995-1745748000-1745753400@centralassembly.com
SUMMARY:GO Sunday
DESCRIPTION:Hey\, awesome kids and families! Buckle up your imaginary seatbelts because on April 27th at 10 AM\, we’re zooming off on a super cool flight to the amazing island of Madagascar for GO Sunday! This isn’t just any trip – we’re on a mission to share the love of Jesus and the good news of the Gospel with the people there. And trust us\, it’s going to be a blast! We’ll land in a wild\, colorful world filled with unique animals\, vibrant culture\, and tasty treats! But the best part? We’ll discover how we can tell the people of Madagascar about Jesus – our ultimate adventure guide! Through games\, stories\, and fun activities\, we’ll learn how to share His love across the world!
URL:https://centralassembly.com/event/go-sunday-2/
LOCATION:Central Assembly\, 6767 20th Street \, FL\, Vero Beach\, 32966\, United States
CATEGORIES:Central Kids
END:VEVENT
BEGIN:VEVENT
DTSTART;TZID=UTC:20250420T100000
DTEND;TZID=UTC:20250420T113000
DTSTAMP:20260425T232652
CREATED:20250319T195307Z
LAST-MODIFIED:20250319T195307Z
UID:26992-1745143200-1745148600@centralassembly.com
SUMMARY:Easter Morning Service
DESCRIPTION:Through powerful worship\, an inspiring message\, and a welcoming community\, we invite you to encounter the passion of Easter that changes everything. Whether you’ve been a part of our church family for years\, or you are looking for a place to celebrate Easter\, you are welcome here! \nThere will be fun and engaging classes for children of all ages\, as well as an Easter Egg Hunt! Children are welcome to bring their own Easter baskets\, or we are happy to provide one. We hope to see you there!
URL:https://centralassembly.com/event/easter-morning-service/
LOCATION:Central Assembly\, 6767 20th Street \, FL\, Vero Beach\, 32966\, United States
END:VEVENT
BEGIN:VEVENT
DTSTART;TZID=UTC:20250420T070000
DTEND;TZID=UTC:20250420T080000
DTSTAMP:20260425T232652
CREATED:20250319T190610Z
LAST-MODIFIED:20250319T190610Z
UID:26989-1745132400-1745136000@centralassembly.com
SUMMARY:Easter Sunrise Service
DESCRIPTION:Come rejoice with us at our Easter Sunrise Service on Sunday\, April 20th at 7 AM\, at Humiston Park in Vero Beach. This special gathering marks the resurrection of Jesus Christ with a time of worship\, an inspiring message\, and a shared moment of hope as the sun rises. Bring a blanket or chair\, and we will provide the coffee! Join us to celebrate the promise of new life on this glorious Easter morning. All are welcome!
URL:https://centralassembly.com/event/easter-sunrise-service/
LOCATION:Humiston Park\, 3000 Ocean Drive\, Vero Beach\, FL\, 32963\, United States
END:VEVENT
BEGIN:VEVENT
DTSTART;TZID=UTC:20250418T190000
DTEND;TZID=UTC:20250418T200000
DTSTAMP:20260425T232652
CREATED:20250319T190213Z
LAST-MODIFIED:20250319T190213Z
UID:26987-1745002800-1745006400@centralassembly.com
SUMMARY:Good Friday Service
DESCRIPTION:You’re invited to join us for our Good Friday Service as we reflect on the profound sacrifice of Jesus Christ. Come together with us to honor this day through worship\, prayer\, and scripture. We look forward to sharing this meaningful time with you.
URL:https://centralassembly.com/event/good-friday-service/
LOCATION:Central Assembly\, 6767 20th Street \, FL\, Vero Beach\, 32966\, United States
END:VEVENT
BEGIN:VEVENT
DTSTART;TZID=UTC:20250405T100000
DTEND;TZID=UTC:20250405T140000
DTSTAMP:20260425T232652
CREATED:20250312T180002Z
LAST-MODIFIED:20250312T180100Z
UID:26982-1743847200-1743861600@centralassembly.com
SUMMARY:Christian FM Car Show
DESCRIPTION:Calling all car enthusiasts! Also all business vendors and BBQ food trucks and businesses! Join us for Christian FM’s Spring Car Show and BBQ Fest on Saturday\, April 5th from 10 AM to 2 PM. Come show off your car\, business or BBQ. There will be awards for best in each category—seven for cars\, one for trucks\, one for jeeps and for the best BBQ in town. Car show entries are $15 to preregister and $20 at the door. Register now to show your car or become a vendor!
URL:https://centralassembly.com/event/christian-fm-car-show/
LOCATION:Central Assembly\, 6767 20th Street \, FL\, Vero Beach\, 32966\, United States
END:VEVENT
BEGIN:VEVENT
DTSTART;TZID=UTC:20250330T180000
DTEND;TZID=UTC:20250330T193000
DTSTAMP:20260425T232652
CREATED:20250210T172352Z
LAST-MODIFIED:20250313T140048Z
UID:26970-1743357600-1743363000@centralassembly.com
SUMMARY:Freedom Night
DESCRIPTION:Join us for a night of radical worship\, faith-filled prayer\, personal ministry time\, and the joy of witnessing lives transformed through water baptism. Whether you need healing\, a touch from God or just time in His presence\, we encourage you to join us for this special night. Come expecting God to move! \nIf you are interested in being baptized\, you can sign up HERE.
URL:https://centralassembly.com/event/night-of-worship-and-water-baptism-2/
LOCATION:Central Assembly\, 6767 20th Street \, FL\, Vero Beach\, 32966\, United States
END:VEVENT
BEGIN:VEVENT
DTSTART;TZID=UTC:20250328T190000
DTEND;TZID=UTC:20250328T220000
DTSTAMP:20260425T232652
CREATED:20250313T145655Z
LAST-MODIFIED:20250313T145655Z
UID:26985-1743188400-1743199200@centralassembly.com
SUMMARY:Youth Game Night
DESCRIPTION:All middle school and high school students are invited to join us for an exciting game night filled with laughter\, friends\, fun\, and of course pizza! Whether you love games or just hanging out- there’s something fun for everyone. Bring your friends and let’s make it a night to remember! RSVP HERE.
URL:https://centralassembly.com/event/youth-game-night-3/
LOCATION:Central Assembly\, 6767 20th Street \, FL\, Vero Beach\, 32966\, United States
CATEGORIES:Central Youth
END:VEVENT
END:VCALENDAR