BEGIN:VCALENDAR
VERSION:2.0
PRODID:-//Central Assembly - ECPv6.13.2.1//NONSGML v1.0//EN
CALSCALE:GREGORIAN
METHOD:PUBLISH
X-WR-CALNAME:Central Assembly
X-ORIGINAL-URL:https://centralassembly.com
X-WR-CALDESC:Events for Central Assembly
REFRESH-INTERVAL;VALUE=DURATION:PT1H
X-Robots-Tag:noindex
X-PUBLISHED-TTL:PT1H
BEGIN:VTIMEZONE
TZID:UTC
BEGIN:STANDARD
TZOFFSETFROM:+0000
TZOFFSETTO:+0000
TZNAME:UTC
DTSTART:20240101T000000
END:STANDARD
END:VTIMEZONE
BEGIN:VTIMEZONE
TZID:America/New_York
BEGIN:DAYLIGHT
TZOFFSETFROM:-0500
TZOFFSETTO:-0400
TZNAME:EDT
DTSTART:20240310T070000
END:DAYLIGHT
BEGIN:STANDARD
TZOFFSETFROM:-0400
TZOFFSETTO:-0500
TZNAME:EST
DTSTART:20241103T060000
END:STANDARD
END:VTIMEZONE
BEGIN:VEVENT
DTSTART;TZID=UTC:20250601T100000
DTEND;TZID=UTC:20250601T113000
DTSTAMP:20260426T033824
CREATED:20250415T172412Z
LAST-MODIFIED:20250415T172412Z
UID:27051-1748772000-1748777400@centralassembly.com
SUMMARY:Graduation Sunday
DESCRIPTION:We are excited to celebrate our high school and college graduates during our 10 AM service on Sunday\, June 1st! Join us as we honor their hard work\, dedication\, and exciting milestones with our church family. This special service will include a moment to recognize each graduate’s achievements and pray for their future journeys. Families are invited to sign up their graduates using this link below to ensure they are included in this meaningful event. Don’t miss this opportunity to come together and uplift our students! SIGN UP HERE.
URL:https://centralassembly.com/event/graduation-sunday/
LOCATION:Central Assembly\, 6767 20th Street \, FL\, Vero Beach\, 32966\, United States
END:VEVENT
BEGIN:VEVENT
DTSTART;TZID=UTC:20250511T100000
DTEND;TZID=UTC:20250511T113000
DTSTAMP:20260426T033824
CREATED:20250410T155714Z
LAST-MODIFIED:20250410T155714Z
UID:27045-1746957600-1746963000@centralassembly.com
SUMMARY:Mother's Day at Central
DESCRIPTION:This Mother’s Day\, get ready for a joyful and dynamic celebration that will leave you laughing and feeling loved! Our special guest? The fabulous Sherri Lynn–broadcaster\, writer\, comedian\, and the author of “Holy Ghost Mama” Sherri’s incredible tribute to her legendary mom. After years of spilling Miss Bev’s wit and wisdom on the airwaves and the stage\, Sherri has compiled her mama’s sassiest sayings into a must-have gem. We hope you will join us on Sunday\, May 11th at 10 AM for a service bursting with heartfelt worship\, a meaningful message and down to earth community\, along with other activities for all the ladies! Bring your family\, your friends\, your sense of humor\, and your tissues and get ready for a morning to remember!
URL:https://centralassembly.com/event/mothers-day-at-central/
LOCATION:Central Assembly\, 6767 20th Street \, FL\, Vero Beach\, 32966\, United States
END:VEVENT
BEGIN:VEVENT
DTSTART;TZID=UTC:20250504T100000
DTEND;TZID=UTC:20250504T113000
DTSTAMP:20260426T033824
CREATED:20250409T144025Z
LAST-MODIFIED:20250430T190015Z
UID:27041-1746352800-1746358200@centralassembly.com
SUMMARY:Water Baptism
DESCRIPTION:Are you ready to take the next step in your faith journey? We invite you to participate in our upcoming water baptism during our 10 AM service on Sunday\, May 4th! This is a beautiful opportunity to publicly declare your commitment to Christ\, surrounded by a loving and supportive church family. If you would like to experience water baptism\, we’d be honored to celebrate with you. Let’s rejoice together in this sacred moment of faith! CLICK HERE to sign up. 
URL:https://centralassembly.com/event/water-baptism-2/
LOCATION:Central Assembly\, 6767 20th Street \, FL\, Vero Beach\, 32966\, United States
END:VEVENT
BEGIN:VEVENT
DTSTART;TZID=UTC:20250427T100000
DTEND;TZID=UTC:20250427T113000
DTSTAMP:20260426T033824
CREATED:20250319T211258Z
LAST-MODIFIED:20250320T020855Z
UID:26995-1745748000-1745753400@centralassembly.com
SUMMARY:GO Sunday
DESCRIPTION:Hey\, awesome kids and families! Buckle up your imaginary seatbelts because on April 27th at 10 AM\, we’re zooming off on a super cool flight to the amazing island of Madagascar for GO Sunday! This isn’t just any trip – we’re on a mission to share the love of Jesus and the good news of the Gospel with the people there. And trust us\, it’s going to be a blast! We’ll land in a wild\, colorful world filled with unique animals\, vibrant culture\, and tasty treats! But the best part? We’ll discover how we can tell the people of Madagascar about Jesus – our ultimate adventure guide! Through games\, stories\, and fun activities\, we’ll learn how to share His love across the world!
URL:https://centralassembly.com/event/go-sunday-2/
LOCATION:Central Assembly\, 6767 20th Street \, FL\, Vero Beach\, 32966\, United States
CATEGORIES:Central Kids
END:VEVENT
BEGIN:VEVENT
DTSTART;TZID=UTC:20250420T100000
DTEND;TZID=UTC:20250420T113000
DTSTAMP:20260426T033824
CREATED:20250319T195307Z
LAST-MODIFIED:20250319T195307Z
UID:26992-1745143200-1745148600@centralassembly.com
SUMMARY:Easter Morning Service
DESCRIPTION:Through powerful worship\, an inspiring message\, and a welcoming community\, we invite you to encounter the passion of Easter that changes everything. Whether you’ve been a part of our church family for years\, or you are looking for a place to celebrate Easter\, you are welcome here! \nThere will be fun and engaging classes for children of all ages\, as well as an Easter Egg Hunt! Children are welcome to bring their own Easter baskets\, or we are happy to provide one. We hope to see you there!
URL:https://centralassembly.com/event/easter-morning-service/
LOCATION:Central Assembly\, 6767 20th Street \, FL\, Vero Beach\, 32966\, United States
END:VEVENT
BEGIN:VEVENT
DTSTART;TZID=UTC:20250420T070000
DTEND;TZID=UTC:20250420T080000
DTSTAMP:20260426T033824
CREATED:20250319T190610Z
LAST-MODIFIED:20250319T190610Z
UID:26989-1745132400-1745136000@centralassembly.com
SUMMARY:Easter Sunrise Service
DESCRIPTION:Come rejoice with us at our Easter Sunrise Service on Sunday\, April 20th at 7 AM\, at Humiston Park in Vero Beach. This special gathering marks the resurrection of Jesus Christ with a time of worship\, an inspiring message\, and a shared moment of hope as the sun rises. Bring a blanket or chair\, and we will provide the coffee! Join us to celebrate the promise of new life on this glorious Easter morning. All are welcome!
URL:https://centralassembly.com/event/easter-sunrise-service/
LOCATION:Humiston Park\, 3000 Ocean Drive\, Vero Beach\, FL\, 32963\, United States
END:VEVENT
BEGIN:VEVENT
DTSTART;TZID=UTC:20250418T190000
DTEND;TZID=UTC:20250418T200000
DTSTAMP:20260426T033824
CREATED:20250319T190213Z
LAST-MODIFIED:20250319T190213Z
UID:26987-1745002800-1745006400@centralassembly.com
SUMMARY:Good Friday Service
DESCRIPTION:You’re invited to join us for our Good Friday Service as we reflect on the profound sacrifice of Jesus Christ. Come together with us to honor this day through worship\, prayer\, and scripture. We look forward to sharing this meaningful time with you.
URL:https://centralassembly.com/event/good-friday-service/
LOCATION:Central Assembly\, 6767 20th Street \, FL\, Vero Beach\, 32966\, United States
END:VEVENT
BEGIN:VEVENT
DTSTART;TZID=UTC:20250405T100000
DTEND;TZID=UTC:20250405T140000
DTSTAMP:20260426T033824
CREATED:20250312T180002Z
LAST-MODIFIED:20250312T180100Z
UID:26982-1743847200-1743861600@centralassembly.com
SUMMARY:Christian FM Car Show
DESCRIPTION:Calling all car enthusiasts! Also all business vendors and BBQ food trucks and businesses! Join us for Christian FM’s Spring Car Show and BBQ Fest on Saturday\, April 5th from 10 AM to 2 PM. Come show off your car\, business or BBQ. There will be awards for best in each category—seven for cars\, one for trucks\, one for jeeps and for the best BBQ in town. Car show entries are $15 to preregister and $20 at the door. Register now to show your car or become a vendor!
URL:https://centralassembly.com/event/christian-fm-car-show/
LOCATION:Central Assembly\, 6767 20th Street \, FL\, Vero Beach\, 32966\, United States
END:VEVENT
BEGIN:VEVENT
DTSTART;TZID=UTC:20250330T180000
DTEND;TZID=UTC:20250330T193000
DTSTAMP:20260426T033824
CREATED:20250210T172352Z
LAST-MODIFIED:20250313T140048Z
UID:26970-1743357600-1743363000@centralassembly.com
SUMMARY:Freedom Night
DESCRIPTION:Join us for a night of radical worship\, faith-filled prayer\, personal ministry time\, and the joy of witnessing lives transformed through water baptism. Whether you need healing\, a touch from God or just time in His presence\, we encourage you to join us for this special night. Come expecting God to move! \nIf you are interested in being baptized\, you can sign up HERE.
URL:https://centralassembly.com/event/night-of-worship-and-water-baptism-2/
LOCATION:Central Assembly\, 6767 20th Street \, FL\, Vero Beach\, 32966\, United States
END:VEVENT
BEGIN:VEVENT
DTSTART;TZID=UTC:20250328T190000
DTEND;TZID=UTC:20250328T220000
DTSTAMP:20260426T033824
CREATED:20250313T145655Z
LAST-MODIFIED:20250313T145655Z
UID:26985-1743188400-1743199200@centralassembly.com
SUMMARY:Youth Game Night
DESCRIPTION:All middle school and high school students are invited to join us for an exciting game night filled with laughter\, friends\, fun\, and of course pizza! Whether you love games or just hanging out- there’s something fun for everyone. Bring your friends and let’s make it a night to remember! RSVP HERE.
URL:https://centralassembly.com/event/youth-game-night-3/
LOCATION:Central Assembly\, 6767 20th Street \, FL\, Vero Beach\, 32966\, United States
CATEGORIES:Central Youth
END:VEVENT
BEGIN:VEVENT
DTSTART;TZID=UTC:20250228T190000
DTEND;TZID=UTC:20250228T220000
DTSTAMP:20260426T033824
CREATED:20241211T160337Z
LAST-MODIFIED:20250204T020650Z
UID:26890-1740769200-1740780000@centralassembly.com
SUMMARY:Youth Bonfire
DESCRIPTION:Join Central Youth for a bonfire! We’ll have a cozy fire\, fun games\, s’mores\, and snacks! Bring a friend and come hang out from 7-10pm! CLICK HERE to send us an message for the address (just mention “Youth Bonfire Address”). We hope to see you there!
URL:https://centralassembly.com/event/youth-game-night-2/
CATEGORIES:Central Youth
END:VEVENT
BEGIN:VEVENT
DTSTART;TZID=UTC:20250221T180000
DTEND;TZID=UTC:20250221T200000
DTSTAMP:20260426T033824
CREATED:20241211T153107Z
LAST-MODIFIED:20250108T194530Z
UID:26885-1740160800-1740168000@centralassembly.com
SUMMARY:Central Kids Parents Night Out
DESCRIPTION:Parents\, enjoy a night out while we watch your kids! Register your family HERE by February 14th. For ages 6 months to 6th grade. \nKids get ready for some fun! Kindergarten through 6th grade kids will compete in a Mario Kart Tournament upstairs in Adventure Point! Prizes\, dinner\, snacks and fun! We also have fun and engaging activities planned for our Early Years children under 5.
URL:https://centralassembly.com/event/central-kids-parents-night-out/
LOCATION:Central Assembly\, 6767 20th Street \, FL\, Vero Beach\, 32966\, United States
ATTACH;FMTTYPE=image/png:https://centralassembly.com/wp-content/uploads/2024/12/Parents-Night-Out-Invite.png
END:VEVENT
BEGIN:VEVENT
DTSTART;TZID=UTC:20250131T190000
DTEND;TZID=UTC:20250131T220000
DTSTAMP:20260426T033824
CREATED:20241211T152554Z
LAST-MODIFIED:20250113T180219Z
UID:26883-1738350000-1738360800@centralassembly.com
SUMMARY:Youth Game Night
DESCRIPTION:Join us for our Youth Game Night on Friday\, January 31st from 6-9 PM for fun games\, activities\, and community. We encourage you to bring a friend!
URL:https://centralassembly.com/event/youth-game-night/
LOCATION:Central Assembly\, 6767 20th Street \, FL\, Vero Beach\, 32966\, United States
CATEGORIES:Central Youth
END:VEVENT
BEGIN:VEVENT
DTSTART;TZID=UTC:20250126T190000
DTEND;TZID=UTC:20250126T203000
DTSTAMP:20260426T033824
CREATED:20241120T193636Z
LAST-MODIFIED:20241120T193654Z
UID:26869-1737918000-1737923400@centralassembly.com
SUMMARY:Water Baptism
DESCRIPTION:If you have recently decided to follow Jesus\, water baptism is a great next step in your faith journey. As an outward declaration of the decision you have made to surrender your heart to Jesus\, it is a significant moment that will serve as a reminder that the old is gone\, and that God has saved you and will be faithful to continue what He has started in your life. Fill out the form below if you’re interested in being baptized. Our next baptism is planned on Sunday\, January 26th during the 7 PM Worship Night; please bring a towel and change of clothes. \nREGISTER HERE
URL:https://centralassembly.com/event/water-baptism/
LOCATION:Central Assembly\, 6767 20th Street \, FL\, Vero Beach\, 32966\, United States
END:VEVENT
BEGIN:VEVENT
DTSTART;TZID=UTC:20250126T180000
DTEND;TZID=UTC:20250126T193000
DTSTAMP:20260426T033824
CREATED:20241228T214421Z
LAST-MODIFIED:20241228T214421Z
UID:26905-1737914400-1737919800@centralassembly.com
SUMMARY:Night of Worship and Water Baptism
DESCRIPTION:Join us on the evening on Sunday\, January 26th for a night of worship and water baptism at 6 PM. We are setting time aside to gather and worship\, and celebrate those who are making the decision to publicly follow Jesus through water baptism. This event is open to the community and all are welcome!
URL:https://centralassembly.com/event/night-of-worship-and-water-baptism/
END:VEVENT
BEGIN:VEVENT
DTSTART;TZID=UTC:20250119T100000
DTEND;TZID=UTC:20250119T113000
DTSTAMP:20260426T033824
CREATED:20241211T152047Z
LAST-MODIFIED:20241211T152715Z
UID:26881-1737280800-1737286200@centralassembly.com
SUMMARY:Central Kids GO Sunday
DESCRIPTION:Central Kids will be taking off on a flight to Lebanon on Sunday\, January 19th for our first GO Sunday of 2025! You can bring your children directly to classes at 10 AM that morning because we have a packed morning full of fun activities as we learn about God’s heart for the people of Lebanon!
URL:https://centralassembly.com/event/central-kids-go-sunday/
LOCATION:Central Assembly\, 6767 20th Street \, FL\, Vero Beach\, 32966\, United States
CATEGORIES:Central Kids
END:VEVENT
BEGIN:VEVENT
DTSTART;TZID=UTC:20250115T190000
DTEND;TZID=UTC:20250115T203000
DTSTAMP:20260426T033824
CREATED:20241210T160235Z
LAST-MODIFIED:20250106T152212Z
UID:26879-1736967600-1736973000@centralassembly.com
SUMMARY:Alpha Class
DESCRIPTION:Alpha creates space for judgement-free\, honest and open conversations about life’s biggest questions. We want to hear your thoughts and questions as we explore life and spirituality together without the pressured atmosphere that usually comes with these conversations. An Alpha group meets weekly and typically runs over 11 weeks. Everyone is welcome and no questions are off limits! Beginning the week of January 12th there will be several Alpha Courses starting at various times and locations. To find out more or register\, CLICK HERE \n 
URL:https://centralassembly.com/event/alpha-class/
END:VEVENT
BEGIN:VEVENT
DTSTART;TZID=UTC:20250105T080000
DTEND;TZID=UTC:20250126T170000
DTSTAMP:20260426T033824
CREATED:20241228T204123Z
LAST-MODIFIED:20241228T205326Z
UID:26901-1736064000-1737910800@centralassembly.com
SUMMARY:21 Days of Prayer and Fasting
DESCRIPTION:At Central Assembly\, we are beginning the new year by observing a special corporate season of fasting and prayer. You are invited to be a part of this time beginning on January 5th and ending on January 26th\, although it is entirely voluntary\, and we encourage you to follow your own conscience and be mindful of your own health as we observe this spiritual season.  \nWhat Is Fasting? Fasting is denying yourself something for a period of time for spiritual reasons. Generally\, it involves giving up foods. However\, it is also possible to fast media\, internet\, social media\, entertainment\, sweets\, sports\, or more. Anything that you would potentially miss is “fastable.”
URL:https://centralassembly.com/event/21-days-of-prayer-and-fasting/
END:VEVENT
BEGIN:VEVENT
DTSTART;TZID=UTC:20241222T180000
DTEND;TZID=UTC:20241222T193000
DTSTAMP:20260426T033824
CREATED:20241130T033431Z
LAST-MODIFIED:20241130T033431Z
UID:26875-1734890400-1734895800@centralassembly.com
SUMMARY:Candlelight Christmas Service
DESCRIPTION:Join us on Sunday\, December 22nd at 6 PM for a candlelight evening of Christmas carols\, communion\, children’s choir\, and a peaceful setting as we reflect on the birth of Jesus. All are welcome!
URL:https://centralassembly.com/event/candlelight-christmas-service/
END:VEVENT
BEGIN:VEVENT
DTSTART;TZID=UTC:20241206T190000
DTEND;TZID=UTC:20241206T210000
DTSTAMP:20260426T033824
CREATED:20241130T032349Z
LAST-MODIFIED:20241130T032349Z
UID:26873-1733511600-1733518800@centralassembly.com
SUMMARY:Family Christmas Party
DESCRIPTION:Join us for our Family Christmas Party on Friday\, December 6th! Drink hot cocoa and fellowship while the kids enjoy an outdoor movie\, Christmas crafts and photos with Santa. Plus… SNOW!
URL:https://centralassembly.com/event/family-christmas-party/
END:VEVENT
BEGIN:VEVENT
DTSTART;TZID=UTC:20241205T150000
DTEND;TZID=UTC:20241205T170000
DTSTAMP:20260426T033824
CREATED:20241022T013759Z
LAST-MODIFIED:20241022T013759Z
UID:26841-1733410800-1733418000@centralassembly.com
SUMMARY:Study Hours
DESCRIPTION:Need a productive space to get things done? Join us at Central’s Study Hours! Whether it’s homework\, work-from-home tasks\, or personal projects\, we’ve got the perfect spot for you. Open to all ages\, it’s a great place to focus and stay on track. We can’t wait to see you in The Living Room!
URL:https://centralassembly.com/event/study-hours-6/
CATEGORIES:Central Youth
ORGANIZER;CN="Central Youth":MAILTO:youth@centralassembly.com
END:VEVENT
BEGIN:VEVENT
DTSTART;TZID=UTC:20241124T100000
DTEND;TZID=UTC:20241124T113000
DTSTAMP:20260426T033824
CREATED:20241022T143124Z
LAST-MODIFIED:20241114T162905Z
UID:26847-1732442400-1732447800@centralassembly.com
SUMMARY:Central Kids Friendsgiving
DESCRIPTION:All children K-5th grade are invited to our Central Kids Friendsgiving! The children will engage in the inspiring tale that brought liberty to the shores of America and experience the miracle of the first Thanksgiving. They will also create fun fall crafts\, and enjoy a caramel apple bar! All happening upstairs in Adventure Point during the 10 AM service on Sunday\, November 24th. 
URL:https://centralassembly.com/event/central-kids-friendsgiving/
LOCATION:Central Assembly\, 6767 20th Street \, FL\, Vero Beach\, 32966\, United States
CATEGORIES:Central Kids
ATTACH;FMTTYPE=image/png:https://centralassembly.com/wp-content/uploads/2024/10/Central-Kids-Friendsgiving-Invite.png
END:VEVENT
BEGIN:VEVENT
DTSTART;TZID=UTC:20241122T190000
DTEND;TZID=UTC:20241122T220000
DTSTAMP:20260426T033824
CREATED:20241008T173947Z
LAST-MODIFIED:20241016T180740Z
UID:26764-1732302000-1732312800@centralassembly.com
SUMMARY:Youth Friendsgiving
DESCRIPTION:Join Central Youth for Friendsgiving 2024! We will enjoy a meal together and end the night with games. We can’t wait to celebrate with each other. If you’d like\, feel free to bring a side dish or dessert to share. Be sure to register so we know how many to expect. See you there! \nSIGN UP HERE
URL:https://centralassembly.com/event/youth-friendsgiving/
LOCATION:Central Assembly\, 6767 20th Street \, FL\, Vero Beach\, 32966\, United States
CATEGORIES:Central Youth
END:VEVENT
BEGIN:VEVENT
DTSTART;TZID=UTC:20241121T150000
DTEND;TZID=UTC:20241121T170000
DTSTAMP:20260426T033824
CREATED:20241022T013706Z
LAST-MODIFIED:20241022T013706Z
UID:26839-1732201200-1732208400@centralassembly.com
SUMMARY:Study Hours
DESCRIPTION:Need a productive space to get things done? Join us at Central’s Study Hours! Whether it’s homework\, work-from-home tasks\, or personal projects\, we’ve got the perfect spot for you. Open to all ages\, it’s a great place to focus and stay on track. We can’t wait to see you in The Living Room!
URL:https://centralassembly.com/event/study-hours-5/
LOCATION:Central Assembly\, 6767 20th Street \, FL\, Vero Beach\, 32966\, United States
CATEGORIES:Central Youth
END:VEVENT
BEGIN:VEVENT
DTSTART;TZID=UTC:20241114T150000
DTEND;TZID=UTC:20241114T170000
DTSTAMP:20260426T033824
CREATED:20241022T013540Z
LAST-MODIFIED:20241022T013540Z
UID:26836-1731596400-1731603600@centralassembly.com
SUMMARY:Study Hours
DESCRIPTION:Need a productive space to get things done? Join us at Central’s Study Hours! Whether it’s homework\, work-from-home tasks\, or personal projects\, we’ve got the perfect spot for you. Open to all ages\, it’s a great place to focus and stay on track. We can’t wait to see you in The Living Room!
URL:https://centralassembly.com/event/study-hours-4/
LOCATION:Central Assembly\, 6767 20th Street \, FL\, Vero Beach\, 32966\, United States
CATEGORIES:Central Youth
END:VEVENT
BEGIN:VEVENT
DTSTART;TZID=UTC:20241107T150000
DTEND;TZID=UTC:20241107T170000
DTSTAMP:20260426T033824
CREATED:20241022T013442Z
LAST-MODIFIED:20241022T013457Z
UID:26834-1730991600-1730998800@centralassembly.com
SUMMARY:Study Hours
DESCRIPTION:Need a productive space to get things done? Join us at Central’s Study Hours! Whether it’s homework\, work-from-home tasks\, or personal projects\, we’ve got the perfect spot for you. Open to all ages\, it’s a great place to focus and stay on track. We can’t wait to see you in The Living Room!
URL:https://centralassembly.com/event/study-hours-3/
LOCATION:Central Assembly\, 6767 20th Street \, FL\, Vero Beach\, 32966\, United States
CATEGORIES:Central Youth
END:VEVENT
BEGIN:VEVENT
DTSTART;TZID=UTC:20241104T100000
DTEND;TZID=UTC:20241104T113000
DTSTAMP:20260426T033824
CREATED:20241022T014459Z
LAST-MODIFIED:20241022T014459Z
UID:26845-1730714400-1730719800@centralassembly.com
SUMMARY:GO Sunday
DESCRIPTION:This GO Sunday our kids will be boarding a flight to China! We have a special guest coming to share about the underground church and the work God is doing there among the unreached people groups. All children will be dropped off at the beginning of service at 10 AM to allow more time for a fun and memorable morning!
URL:https://centralassembly.com/event/go-sunday/
LOCATION:Central Assembly\, 6767 20th Street \, FL\, Vero Beach\, 32966\, United States
CATEGORIES:Central Kids
END:VEVENT
BEGIN:VEVENT
DTSTART;TZID=America/New_York:20241101T180000
DTEND;TZID=America/New_York:20241103T120000
DTSTAMP:20260426T033824
CREATED:20240515T024742Z
LAST-MODIFIED:20241008T154302Z
UID:24098-1730484000-1730635200@centralassembly.com
SUMMARY:Global Outreach Conference
DESCRIPTION:Join us for the free Global Outreach Conference\, dedicated to raising awareness about unreached people groups and mobilizing workers to reach them. \nRegister now: https://centralassembly.churchcenter.com/people/forms/734341.
URL:https://centralassembly.com/event/global-outreach-conference/
LOCATION:Central Assembly\, 6767 20th Street \, FL\, Vero Beach\, 32966\, United States
CATEGORIES:Global Outreach
ATTACH;FMTTYPE=image/png:https://centralassembly.com/wp-content/uploads/2024/05/GOC-Wordpress-Image.png
END:VEVENT
BEGIN:VEVENT
DTSTART;TZID=UTC:20241031T150000
DTEND;TZID=UTC:20241031T170000
DTSTAMP:20260426T033824
CREATED:20241022T013346Z
LAST-MODIFIED:20241022T013346Z
UID:26832-1730386800-1730394000@centralassembly.com
SUMMARY:Study Hours
DESCRIPTION:Need a productive space to get things done? Join us at Central’s Study Hours! Whether it’s homework\, work-from-home tasks\, or personal projects\, we’ve got the perfect spot for you. Open to all ages\, it’s a great place to focus and stay on track. We can’t wait to see you in The Living Room!
URL:https://centralassembly.com/event/study-hours-2/
LOCATION:Central Assembly\, 6767 20th Street \, FL\, Vero Beach\, 32966\, United States
CATEGORIES:Central Youth
END:VEVENT
BEGIN:VEVENT
DTSTART;TZID=UTC:20241024T150000
DTEND;TZID=UTC:20241024T170000
DTSTAMP:20260426T033824
CREATED:20241022T013226Z
LAST-MODIFIED:20241022T013254Z
UID:26830-1729782000-1729789200@centralassembly.com
SUMMARY:Study Hours
DESCRIPTION:Need a productive space to get things done? Join us at Central’s Study Hours! Whether it’s homework\, work-from-home tasks\, or personal projects\, we’ve got the perfect spot for you. Open to all ages\, it’s a great place to focus and stay on track. We can’t wait to see you in The Living Room!
URL:https://centralassembly.com/event/study-hours/
LOCATION:Central Assembly\, 6767 20th Street \, FL\, Vero Beach\, 32966\, United States
CATEGORIES:Central Youth
END:VEVENT
END:VCALENDAR