BEGIN:VCALENDAR
VERSION:2.0
PRODID:-//Central Assembly - ECPv6.13.2.1//NONSGML v1.0//EN
CALSCALE:GREGORIAN
METHOD:PUBLISH
X-ORIGINAL-URL:https://centralassembly.com
X-WR-CALDESC:Events for Central Assembly
REFRESH-INTERVAL;VALUE=DURATION:PT1H
X-Robots-Tag:noindex
X-PUBLISHED-TTL:PT1H
BEGIN:VTIMEZONE
TZID:UTC
BEGIN:STANDARD
TZOFFSETFROM:+0000
TZOFFSETTO:+0000
TZNAME:UTC
DTSTART:20260101T000000
END:STANDARD
END:VTIMEZONE
BEGIN:VEVENT
DTSTART;TZID=UTC:20260221T180000
DTEND;TZID=UTC:20260221T220000
DTSTAMP:20260425T180502
CREATED:20260114T024126Z
LAST-MODIFIED:20260114T174014Z
UID:27169-1771696800-1771711200@centralassembly.com
SUMMARY:Supper and Soul
DESCRIPTION:Join us for Supper & Soul on February 21 at 6pm! This is a night for young adults (18–30) to gather and enjoy good food\, meaningful conversation\, and community! Pizza will be provided. \n 
URL:https://centralassembly.com/event/supper-and-soul-4/
LOCATION:Central Assembly\, 6767 20th Street \, FL\, Vero Beach\, 32966\, United States
END:VEVENT
BEGIN:VEVENT
DTSTART;TZID=UTC:20260227T190000
DTEND;TZID=UTC:20260227T220000
DTSTAMP:20260425T180502
CREATED:20260114T021802Z
LAST-MODIFIED:20260114T021802Z
UID:27166-1772218800-1772229600@centralassembly.com
SUMMARY:Youth Outdoor Movie Night
DESCRIPTION:Grab your blankets and lawn chairs and join us for a Youth Outdoor Movie Night on February 27 from 7–10pm at Central Assembly! This event is for middle and high schoolers. We’ll have the movie ready—and pizza and popcorn provided!
URL:https://centralassembly.com/event/youth-outdoor-movie-night/
LOCATION:Central Assembly\, 6767 20th Street \, FL\, Vero Beach\, 32966\, United States
ORGANIZER;CN="Central Youth":MAILTO:youth@centralassembly.com
END:VEVENT
BEGIN:VEVENT
DTSTART;TZID=UTC:20260228T100000
DTEND;TZID=UTC:20260228T140000
DTSTAMP:20260425T180502
CREATED:20260223T151250Z
LAST-MODIFIED:20260223T154113Z
UID:27209-1772272800-1772287200@centralassembly.com
SUMMARY:Christian FM 1st Annual Community Connection Expo
DESCRIPTION:On Saturday\, February 28\, 2026\, from 10:00 AM – 2:00 PM\, the heart of Vero Beach will come alive at Central Assembly (6767 20th Street\, Vero Beach\, FL 32966) with Christian FM’s 1st Annual Community Connection Expo. This is more than just an event—it’s a movement to strengthen local ties\, celebrate creativity\, and reconnect in a world that often pulls us apart. \n\nCome ready for a day filled with food\, fun\, and family-friendly entertainment. This event is built for all generations\, from kids to seniors. Stroll through vendor booths showcasing local businesses and organizations\, video performances & workshops. Prizes given away every 15 minutes on the stage\, and don’t miss the exciting song competition finals where you’ll get to cast your vote for the winner! \nAnd here’s something special: the first 100 families to arrive will receive complimentary park passes —our way of saying thanks for being part of the day. \n\n\n\n 
URL:https://centralassembly.com/event/christian-fm-1st-annual-community-connection-expo/
LOCATION:Central Assembly\, 6767 20th Street \, FL\, Vero Beach\, 32966\, United States
END:VEVENT
END:VCALENDAR